BEGIN:VCALENDAR
PRODID:-//Microsoft Corporation//Outlook 14.0 MIMEDIR//EN
VERSION:2.0
METHOD:PUBLISH
BEGIN:VEVENT
UID:9eb30e0df139160cfe8107de8e9f7edewww.rqra.qc.ca
DTSTAMP:20260423T111243Z
DTSTART:2026-05-14T15:00:0000Z
DTEND:2026-05-14T16:00:0000Z
SUMMARY:Le projet de Règlement sur l’exploitation des résidences privées pour aînés enfin publié!
LOCATION:
DESCRIPTION:Le RQRA invite ses membres à une rencontre d’information virtuelle sur le Règlement sur l’exploitation des résidences privées pour aînés
END:VEVENT
END:VCALENDAR