BEGIN:VCALENDAR
PRODID:-//Microsoft Corporation//Outlook 14.0 MIMEDIR//EN
VERSION:2.0
METHOD:PUBLISH
BEGIN:VEVENT
UID:d23395e99e9f8b5799599d526cd3fc98www.rqra.qc.ca
DTSTAMP:20260423T111243Z
DTSTART:2026-04-29T15:00:0000Z
DTEND:2026-04-29T16:00:0000Z
SUMMARY:Ce que vous devez savoir avant d’adhérer au Programme d’allocation personnalisée
LOCATION:
DESCRIPTION:Le RQRA invite ses membres à une rencontre d’information virtuelle sur le Programme d’allocation personnalisée (PAP). Inscrivez-vous dès maintenant !
END:VEVENT
END:VCALENDAR