BEGIN:VCALENDAR
PRODID:-//Microsoft Corporation//Outlook 14.0 MIMEDIR//EN
VERSION:2.0
METHOD:PUBLISH
BEGIN:VEVENT
UID:1f3bb2fdf55e3f6a3003b7e6f2c60b67www.rqra.qc.ca
DTSTAMP:20260422T114211Z
DTSTART:2026-05-07T10:00:0000Z
DTEND:2026-05-07T11:30:0000Z
SUMMARY:Le RQRA en tournée virtuelle
LOCATION:En ligne
DESCRIPTION:Le 7 mai, la tournée du RQRA se poursuit en virtuelle. Participez à notre rencontre et prenez part aux échanges où que vous soyez au Québec. 

END:VEVENT
END:VCALENDAR